BEGIN:VCALENDAR
VERSION:2.0
PRODID:-//Great Hollow - ECPv6.15.15//NONSGML v1.0//EN
CALSCALE:GREGORIAN
METHOD:PUBLISH
X-WR-CALNAME:Great Hollow
X-ORIGINAL-URL:https://greathollow.org
X-WR-CALDESC:Events for Great Hollow
REFRESH-INTERVAL;VALUE=DURATION:PT1H
X-Robots-Tag:noindex
X-PUBLISHED-TTL:PT1H
BEGIN:VTIMEZONE
TZID:America/New_York
BEGIN:DAYLIGHT
TZOFFSETFROM:-0500
TZOFFSETTO:-0400
TZNAME:EDT
DTSTART:20150308T070000
END:DAYLIGHT
BEGIN:STANDARD
TZOFFSETFROM:-0400
TZOFFSETTO:-0500
TZNAME:EST
DTSTART:20151101T060000
END:STANDARD
BEGIN:DAYLIGHT
TZOFFSETFROM:-0500
TZOFFSETTO:-0400
TZNAME:EDT
DTSTART:20160313T070000
END:DAYLIGHT
BEGIN:STANDARD
TZOFFSETFROM:-0400
TZOFFSETTO:-0500
TZNAME:EST
DTSTART:20161106T060000
END:STANDARD
BEGIN:DAYLIGHT
TZOFFSETFROM:-0500
TZOFFSETTO:-0400
TZNAME:EDT
DTSTART:20170312T070000
END:DAYLIGHT
BEGIN:STANDARD
TZOFFSETFROM:-0400
TZOFFSETTO:-0500
TZNAME:EST
DTSTART:20171105T060000
END:STANDARD
END:VTIMEZONE
BEGIN:VTIMEZONE
TZID:America/New_York
BEGIN:DAYLIGHT
TZOFFSETFROM:-0500
TZOFFSETTO:-0400
TZNAME:EDT
DTSTART:20150308T070000
END:DAYLIGHT
BEGIN:STANDARD
TZOFFSETFROM:-0400
TZOFFSETTO:-0500
TZNAME:EST
DTSTART:20151101T060000
END:STANDARD
BEGIN:DAYLIGHT
TZOFFSETFROM:-0500
TZOFFSETTO:-0400
TZNAME:EDT
DTSTART:20160313T070000
END:DAYLIGHT
BEGIN:STANDARD
TZOFFSETFROM:-0400
TZOFFSETTO:-0500
TZNAME:EST
DTSTART:20161106T060000
END:STANDARD
BEGIN:DAYLIGHT
TZOFFSETFROM:-0500
TZOFFSETTO:-0400
TZNAME:EDT
DTSTART:20170312T070000
END:DAYLIGHT
BEGIN:STANDARD
TZOFFSETFROM:-0400
TZOFFSETTO:-0500
TZNAME:EST
DTSTART:20171105T060000
END:STANDARD
END:VTIMEZONE
BEGIN:VEVENT
DTSTART;TZID=America/New_York:20161204T100000
DTEND;TZID=America/New_York:20161204T113000
DTSTAMP:20260421T194302
CREATED:20161118T164934Z
LAST-MODIFIED:20161201T165718Z
UID:10000075-1480845600-1480851000@greathollow.org
SUMMARY:Make Your Own Bird Feeders - morning session
DESCRIPTION:Help out your backyard feathered friends this winter by making your very own biodegradable bird feeders. Join us on Sunday\, December 4th as we make bird food garlands and suet log feeders that you can take home and proudly display in your yard to attract cardinals\, chickadees\, nuthatches\, woodpeckers\, and more. Two sessions are available\, 10:00 am to 11:30 am and 2:00 pm to 3:30 pm\, and are limited to 10 participants each. Recommended for ages 5 and up. Suggested donation of $10 per person. Tickets can be purchased below for the 10:00 am session. Please go back to events calendar to purchase a ticket to the 2:00 pm session.\n*Please note that peanut butter will be used in making portions of the feeders.
URL:https://greathollow.org/event/make-your-own-bird-feeders/
LOCATION:Cranberry Mountain WMA\, Patterson\, NY\, 12563\, United States
CATEGORIES:Seminar Events
ATTACH;FMTTYPE=image/jpeg:https://greathollow.org/wp-content/uploads/2016/11/facebook_event_1243574895698663.jpg
ORGANIZER;CN="Great Hollow Nature Preserve & Ecological Research Center":MAILTO:info@greathollow.org
GEO:41.50853;-73.55053
END:VEVENT
BEGIN:VEVENT
DTSTART;TZID=America/New_York:20161204T140000
DTEND;TZID=America/New_York:20161204T153000
DTSTAMP:20260421T194302
CREATED:20161120T181041Z
LAST-MODIFIED:20161201T164859Z
UID:10000079-1480860000-1480865400@greathollow.org
SUMMARY:Make Your Own Bird Feeders - afternoon session
DESCRIPTION:Help out your backyard feathered friends this winter by making your very own biodegradable bird feeders. Join us on Sunday\, December 4th as we make bird food garlands and suet log feeders that you can take home and proudly display in your yard to attract cardinals\, chickadees\, nuthatches\, woodpeckers\, and more. Two sessions are available\, 10:00 am to 11:30 am and 2:00 pm to 3:30 pm\, and are limited to 10 participants each. Recommended for ages 5 and up. Suggested donation of $10 per person. Tickets can be purchased below for the 2 pm session. Please go back to events calendar to purchase a ticket to the 10:00 am session.\n*Please note that peanut butter will be used in making portions of the feeders.
URL:https://greathollow.org/event/make-bird-feeders-afternoon-session/
LOCATION:Cranberry Mountain WMA\, Patterson\, NY\, 12563\, United States
ATTACH;FMTTYPE=image/jpeg:https://greathollow.org/wp-content/uploads/2016/11/facebook_event_1243574895698663.jpg
ORGANIZER;CN="Great Hollow Nature Preserve & Ecological Research Center":MAILTO:info@greathollow.org
GEO:41.50853;-73.55053
END:VEVENT
BEGIN:VEVENT
DTSTART;TZID=America/New_York:20161227T083000
DTEND;TZID=America/New_York:20161227T153000
DTSTAMP:20260421T194302
CREATED:20161121T175715Z
LAST-MODIFIED:20161121T175715Z
UID:10000083-1482827400-1482852600@greathollow.org
SUMMARY:School Break Adventures: Wild Winter session\, ages 6-10
DESCRIPTION:Looking for something exciting and educational for your child to do during the holiday break? Sign them up for the School Break Adventures program at Great Hollow! Each day-long session will provide your child with the opportunity to explore all Great Hollow has to offer. Along with indoor and outdoor activities related to the day’s theme\, each session will include unstructured time for playing in the woods. Please provide a lunch\, two snacks\, plenty of water\, and appropriate clothing and footwear for being outside in the cold. This is a drop-off program. For more information\, please email our Education Coordinator\, Sena\, at sena@greathollow.org. \nWild Winter\, for ages 6-10 \nJoin us on Tuesday\, December 27th as we explore the many adaptations that animals have for surviving the winter months. Through indoor and outdoor games\, hands-on activities\, and hikes in the woods\, children will discover how fascinating nature in winter can be. \nRegister for this session below. $45 for members\, $50 for non-members.
URL:https://greathollow.org/event/school-break-adventures-wild-winter-session-ages-6-10/
LOCATION:Cranberry Mountain WMA\, Patterson\, NY\, 12563\, United States
ORGANIZER;CN="Great Hollow Nature Preserve & Ecological Research Center":MAILTO:info@greathollow.org
GEO:41.50853;-73.55053
END:VEVENT
BEGIN:VEVENT
DTSTART;TZID=America/New_York:20161228T083000
DTEND;TZID=America/New_York:20161228T153000
DTSTAMP:20260421T194302
CREATED:20161121T180152Z
LAST-MODIFIED:20161121T184155Z
UID:10000085-1482913800-1482939000@greathollow.org
SUMMARY:School Break Adventures: Nature Ninjas session\, ages 6-10
DESCRIPTION:Looking for something exciting and educational for your child to do during the holiday break? Sign them up for the School Break Adventures program at Great Hollow! Each day-long session will provide your child with the opportunity to explore all Great Hollow has to offer. Along with indoor and outdoor activities related to the day’s theme\, each session will include unstructured time for playing in the woods. Please provide a lunch\, two snacks\, plenty of water\, and appropriate clothing and footwear for being outside in the cold. This is a drop-off program. For more information\, please email our Education Coordinator\, Sena at sena@greathollow.org. \nNature Ninjas\, for ages 6-10 \nWe will spend the morning learning the basics of map reading and animal tracking. In the afternoon\, we will put our new skills to the test by working together to complete a scavenger hunt and solve a mystery in Great Hollow’s woods. \nRegister for this session below. $45 for members\, $50 for non-members.
URL:https://greathollow.org/event/school-break-adventures-nature-ninjas-session-ages-6-10/
LOCATION:Cranberry Mountain WMA\, Patterson\, NY\, 12563\, United States
ORGANIZER;CN="Great Hollow Nature Preserve & Ecological Research Center":MAILTO:info@greathollow.org
GEO:41.50853;-73.55053
END:VEVENT
BEGIN:VEVENT
DTSTART;TZID=America/New_York:20161229T083000
DTEND;TZID=America/New_York:20161229T153000
DTSTAMP:20260421T194302
CREATED:20161121T180508Z
LAST-MODIFIED:20161121T183832Z
UID:10000087-1483000200-1483025400@greathollow.org
SUMMARY:School Break Adventures: Wild Winter session\, ages 8-12
DESCRIPTION:Looking for something exciting and educational for your child to do during the holiday break? Sign them up for the School Break Adventures program at Great Hollow! Each day-long session will provide your child with the opportunity to explore all Great Hollow has to offer. Along with indoor and outdoor activities related to the day’s theme\, each session will include unstructured time for playing in the woods. Please provide a lunch\, two snacks\, plenty of water\, and appropriate clothing and footwear for being outside in the cold. This is a drop-off program. For more information\, please email our Education Coordinator\, Sena\, at sena@greathollow.org. \nWild Winter\, for ages 8-12 \nJoin us on Thursday\, December 29th as we explore the many adaptations that animals have for surviving the winter months. Through indoor and outdoor games\, hands-on activities\, and hikes in the woods\, children will discover how fascinating nature in winter can be. \nRegister for this session below. $45 for members\, $50 for non-members.
URL:https://greathollow.org/event/school-break-adventures-wild-winter-session-ages-8-12/
LOCATION:Cranberry Mountain WMA\, Patterson\, NY\, 12563\, United States
ORGANIZER;CN="Great Hollow Nature Preserve & Ecological Research Center":MAILTO:info@greathollow.org
GEO:41.50853;-73.55053
END:VEVENT
BEGIN:VEVENT
DTSTART;TZID=America/New_York:20161230T083000
DTEND;TZID=America/New_York:20161230T153000
DTSTAMP:20260421T194302
CREATED:20161121T175333Z
LAST-MODIFIED:20161121T180619Z
UID:10000082-1483086600-1483111800@greathollow.org
SUMMARY:School Break Adventures: Nature Ninjas session\, ages 8-12
DESCRIPTION:Looking for something exciting and educational for your child to do during the holiday break? Sign them up for the School Break Adventures program at Great Hollow! Each day-long session will provide your child with the opportunity to explore all Great Hollow has to offer. Along with indoor and outdoor activities related to the day’s theme\, each session will include unstructured time for playing in the woods. Please provide a lunch\, two snacks\, plenty of water\, and appropriate clothing and footwear for being outside in the cold. This is a drop-off program. For more information\, please email our Education Coordinator\, Sena\, at sena@greathollow.org. \nNature Ninjas\, for ages 8-12 \nWe will spend the morning learning the basics of map reading and animal tracking. In the afternoon\, we will put our new skills to the test by working together to complete a scavenger hunt and solve a mystery in Great Hollow’s woods. \nRegister for this session below. $45 for members\, $50 for non-members.
URL:https://greathollow.org/event/school-break-adventures-nature-ninjas-ages-8-12/
LOCATION:Cranberry Mountain WMA\, Patterson\, NY\, 12563\, United States
ORGANIZER;CN="Great Hollow Nature Preserve & Ecological Research Center":MAILTO:info@greathollow.org
GEO:41.50853;-73.55053
END:VEVENT
END:VCALENDAR