BEGIN:VCALENDAR
VERSION:2.0
PRODID:-//Great Hollow - ECPv6.15.15//NONSGML v1.0//EN
CALSCALE:GREGORIAN
METHOD:PUBLISH
X-WR-CALNAME:Great Hollow
X-ORIGINAL-URL:https://greathollow.org
X-WR-CALDESC:Events for Great Hollow
REFRESH-INTERVAL;VALUE=DURATION:PT1H
X-Robots-Tag:noindex
X-PUBLISHED-TTL:PT1H
BEGIN:VTIMEZONE
TZID:America/New_York
BEGIN:DAYLIGHT
TZOFFSETFROM:-0500
TZOFFSETTO:-0400
TZNAME:EDT
DTSTART:20220313T070000
END:DAYLIGHT
BEGIN:STANDARD
TZOFFSETFROM:-0400
TZOFFSETTO:-0500
TZNAME:EST
DTSTART:20221106T060000
END:STANDARD
BEGIN:DAYLIGHT
TZOFFSETFROM:-0500
TZOFFSETTO:-0400
TZNAME:EDT
DTSTART:20230312T070000
END:DAYLIGHT
BEGIN:STANDARD
TZOFFSETFROM:-0400
TZOFFSETTO:-0500
TZNAME:EST
DTSTART:20231105T060000
END:STANDARD
BEGIN:DAYLIGHT
TZOFFSETFROM:-0500
TZOFFSETTO:-0400
TZNAME:EDT
DTSTART:20240310T070000
END:DAYLIGHT
BEGIN:STANDARD
TZOFFSETFROM:-0400
TZOFFSETTO:-0500
TZNAME:EST
DTSTART:20241103T060000
END:STANDARD
END:VTIMEZONE
BEGIN:VEVENT
DTSTART;TZID=America/New_York:20230826T183000
DTEND;TZID=America/New_York:20230826T200000
DTSTAMP:20260423T150004
CREATED:20230731T130920Z
LAST-MODIFIED:20230825T115100Z
UID:10000361-1693074600-1693080000@greathollow.org
SUMMARY:*DATE CHANGED* Live Music on the Lawn: An Original Take on the Beach Boys Songbook
DESCRIPTION:*Rescheduled from August 19th* \nUnfortunately\, due to an illness in the band\, this event has been postponed to Saturday\, August 26th. If you are unable to attend and would like a refund for tickets you purchased for the originally scheduled date\, please email us at info@greathollow.org. We sincerely apologize for any inconvenience. \n  \nCelebrate endless summer with award-winning jazz composer\, Charley Gerard\, and his Broken Reed Saxophone Quartet\, who will perform unique reinterpretations of the brilliant music of Brian Wilson and the Beach Boys — with a little injection of humor too. Charley Gerard\, a local resident of Sherman\, CT\, is a recipient of the prestigious New Jazz Works award from Chamber Music America and has performed with the Broken Reed Saxophone Quartet throughout New York\, New Jersey\, Maryland\, and Connecticut\, as well as Austria. This event is BYOE (“bring your own everything\,” such as food\, drinks\, lawn chairs or blankets). And don’t forget to wear your favorite Hawaiian shirt or other Beach Boys attire! Tickets are only $10 and must be purchased online\, in advance. No walk-ins will be allowed. Children under the age of 10 do not need a ticket. \nPlease either print or take a screen shot of your order confirmation to show staff upon entry. \nTickets purchased on or after August 25th are non-refundable. All sales final. \nPurchase tickets here \n 
URL:https://greathollow.org/event/live-music-on-the-lawn-an-original-take-on-the-beach-boys-songbook/
LOCATION:Great Hollow Nature Preserve\, 225 CT-37\, New Fairfield\, CT\, 06812\, United States
ORGANIZER;CN="Great Hollow Nature Preserve & Ecological Research Center":MAILTO:info@greathollow.org
END:VEVENT
END:VCALENDAR