BEGIN:VCALENDAR
VERSION:2.0
PRODID:-//Great Hollow - ECPv6.15.15//NONSGML v1.0//EN
CALSCALE:GREGORIAN
METHOD:PUBLISH
X-ORIGINAL-URL:https://greathollow.org
X-WR-CALDESC:Events for Great Hollow
REFRESH-INTERVAL;VALUE=DURATION:PT1H
X-Robots-Tag:noindex
X-PUBLISHED-TTL:PT1H
BEGIN:VTIMEZONE
TZID:America/New_York
BEGIN:DAYLIGHT
TZOFFSETFROM:-0500
TZOFFSETTO:-0400
TZNAME:EDT
DTSTART:20220313T070000
END:DAYLIGHT
BEGIN:STANDARD
TZOFFSETFROM:-0400
TZOFFSETTO:-0500
TZNAME:EST
DTSTART:20221106T060000
END:STANDARD
BEGIN:DAYLIGHT
TZOFFSETFROM:-0500
TZOFFSETTO:-0400
TZNAME:EDT
DTSTART:20230312T070000
END:DAYLIGHT
BEGIN:STANDARD
TZOFFSETFROM:-0400
TZOFFSETTO:-0500
TZNAME:EST
DTSTART:20231105T060000
END:STANDARD
BEGIN:DAYLIGHT
TZOFFSETFROM:-0500
TZOFFSETTO:-0400
TZNAME:EDT
DTSTART:20240310T070000
END:DAYLIGHT
BEGIN:STANDARD
TZOFFSETFROM:-0400
TZOFFSETTO:-0500
TZNAME:EST
DTSTART:20241103T060000
END:STANDARD
END:VTIMEZONE
BEGIN:VEVENT
DTSTART;VALUE=DATE:20231006
DTEND;VALUE=DATE:20231007
DTSTAMP:20260424T032508
CREATED:20230828T131519Z
LAST-MODIFIED:20230831T125037Z
UID:10000362-1696550400-1696636799@greathollow.org
SUMMARY:Submission Deadline for 2024 Calendar Contest
DESCRIPTION:The Great Hollow Photographers Club (GHPC) was formed by members of the local community who have a shared interest in nature photography. The goals of the club are to use photography to support the educational and conservation missions of Great Hollow Nature Preserve\, improve the photographic skills of members through the sharing of knowledge and experience\, and to provide a forum for members to engage in their hobby. The GHPC is open to all ages and skill levels\, and both video and still photography. \nEach year\, the Club organizes a calendar contest and this year’s contest is now open to submissions.  Twelve winning photographs will be used for the twelve months of the calendar\, which is made available to everyone who participates in the contest\, and to the sponsors of the annual Art Show.  These images are used each month on the GHPC Facebook page.  To submit your photographs (up to four) for consideration in the 2024 Calendar\, please visit here. \n2024 Calendar Theme: Local Nature and Wildlife If it’s a photo of nature (landscapes\, trees\, flowers\, astronomy and the like) or wildlife (any kind of animals which are not pets like cats or dogs – horses\, cows chickens\, pigs\, etc. are fine)\, from anywhere in the general area of Great Hollow\, or anywhere else in the general Northeast area\, submit it! If it is anything else\, it will not qualify. (Examples: Deer are fine; alligators are not. Pine trees are fine; palm trees are not. Black bears are fine; polar bears are not.) 
URL:https://greathollow.org/event/submission-deadline-for-the-2024-ghpc-calendar-contest/
LOCATION:Great Hollow Nature Preserve\, 225 CT-37\, New Fairfield\, CT\, 06812\, United States
ORGANIZER;CN="Great Hollow Nature Preserve & Ecological Research Center":MAILTO:info@greathollow.org
END:VEVENT
BEGIN:VEVENT
DTSTART;TZID=America/New_York:20231006T183000
DTEND;TZID=America/New_York:20231006T200000
DTSTAMP:20260424T032509
CREATED:20230915T163214Z
LAST-MODIFIED:20230915T163214Z
UID:10000369-1696617000-1696622400@greathollow.org
SUMMARY:Halloween Wreath & Wine Night
DESCRIPTION:Adults\, join us for a relaxing evening of crafting and conversation with our next Wreath & Wine Night. In this workshop\, you’ll learn how to make a multi-colored\, deco mesh wreath. No previous experience is necessary. Please feel free to bring your own wine\, beer\, or whatever you like to enjoy while crafting. Registration is $25 per member and $30 per non-member. All of the supplies you’ll need are included\, but you may also bring anything you want to incorporate into your own wreath. Advanced registration and payment are required. Please email our education coordinator\, Tara\, to register.
URL:https://greathollow.org/event/halloween-wreath-wine-night/
LOCATION:CT
END:VEVENT
BEGIN:VEVENT
DTSTART;TZID=America/New_York:20231008T130000
DTEND;TZID=America/New_York:20231008T150000
DTSTAMP:20260424T032509
CREATED:20230913T164310Z
LAST-MODIFIED:20231003T150122Z
UID:10000366-1696770000-1696777200@greathollow.org
SUMMARY:Kids’ Drop-off Program: Buggin’ Out!
DESCRIPTION:Are dragonflies insects? What about spiders? During this program\, we’ll bug out learning all about the fascinating world of insects and head out into the field with our nets to see what we can collect. We’ll take our specimens back inside to look at more closely through a scope and talk about what we’ve found. Registration is $10 per child for family-level members and above\, and $15 per child for non-members. All supplies included. Space is limited and advance payment and registration are required. This is a drop-off program open to children ages 6-12. Please email our education coordinator Tara at tewers@greathollow.org to register.
URL:https://greathollow.org/event/kids-drop-off-program-buggin-out/
LOCATION:Great Hollow Nature Preserve\, 225 CT-37\, New Fairfield\, CT\, 06812\, United States
ORGANIZER;CN="Great Hollow Nature Preserve & Ecological Research Center":MAILTO:info@greathollow.org
END:VEVENT
BEGIN:VEVENT
DTSTART;TZID=America/New_York:20231014T140000
DTEND;TZID=America/New_York:20231014T160000
DTSTAMP:20260424T032509
CREATED:20230828T132430Z
LAST-MODIFIED:20230828T132430Z
UID:10000363-1697292000-1697299200@greathollow.org
SUMMARY:Photographing Mindfulness Workshop
DESCRIPTION:A two hour workshop exploring the integration of mindfulness with the art of photography will be presented by renowned local photographer Jim Stasiak at Great Hollow on Saturday\, October 14\, 2023 at 2 pm.  Jim’s award-winning work has appeared not only in Great Hollow’s Juried Art Shows\, but in gallery shows throughout America.  \nThis program is offered through the Great Hollow Photographers Club. Everyone interested in photography is invited to attend\, whether pro or advanced amateur or just a beginner – bring any kind of camera you like! There is no cost for the workshop. Please direct all questions to GHPClub@gmail.com.
URL:https://greathollow.org/event/photographing-mindfulness-workshop/
LOCATION:Great Hollow Nature Preserve\, 225 CT-37\, New Fairfield\, CT\, 06812\, United States
ORGANIZER;CN="Great Hollow Nature Preserve & Ecological Research Center":MAILTO:info@greathollow.org
END:VEVENT
BEGIN:VEVENT
DTSTART;TZID=America/New_York:20231017T183000
DTEND;TZID=America/New_York:20231017T193000
DTSTAMP:20260424T032509
CREATED:20230828T132739Z
LAST-MODIFIED:20230830T143308Z
UID:10000364-1697567400-1697571000@greathollow.org
SUMMARY:Photo Club Meeting
DESCRIPTION:The Great Hollow Photographers Club (GHPC) was formed by members of the local community who have a shared interest in nature photography. The goals of the club are to use photography to support the educational and conservation missions of Great Hollow Nature Preserve\, improve the photographic skills of members through the sharing of knowledge and experience\, and to provide a forum for members to engage in their hobby. The GHPC is open to all ages and skill levels\, and both video and still photography. If you are interested in joining the club\, please email GHPClub@gmail.com.  \nThe Club’s next meeting will be on October 17th at 6:30 pm in the Merritt House at Great Hollow. The agenda of this meeting is to select the winners of the 2024 Great Hollow Photographers Club Calendar Contest. Join us to vote for your favorite photos! 
URL:https://greathollow.org/event/ghpc-meeting-at-great-hollow/
LOCATION:Great Hollow Nature Preserve\, 225 CT-37\, New Fairfield\, CT\, 06812\, United States
ORGANIZER;CN="Great Hollow Nature Preserve & Ecological Research Center":MAILTO:info@greathollow.org
END:VEVENT
BEGIN:VEVENT
DTSTART;TZID=America/New_York:20231027T180000
DTEND;TZID=America/New_York:20231027T193000
DTSTAMP:20260424T032509
CREATED:20230913T164747Z
LAST-MODIFIED:20231025T130540Z
UID:10000367-1698429600-1698435000@greathollow.org
SUMMARY:*Sold Out* Kids’ Nature Night: Hollow-ween Hike
DESCRIPTION:Kids\, join us for a twilight hike to the waterfall where we’ll learn interesting facts about Halloween and some of the different animals associated with the holiday. After our hike we’ll return inside for some Halloween crafting followed by s’mores. This is a drop-off program open to children ages 7-12. Registration is $15 per child for family-level members and $20 per child for non-members. Space is limited and this program typically sells out\, so don’t wait to sign up. Please email our education coordinator Tara at tewers@greathollow.org to register.
URL:https://greathollow.org/event/kids-nature-night-hollow-ween-hike/
LOCATION:Great Hollow Nature Preserve\, 225 CT-37\, New Fairfield\, CT\, 06812\, United States
ATTACH;FMTTYPE=image/jpeg:https://greathollow.org/wp-content/uploads/2021/09/jack-lantern-e1694623555291.jpg
ORGANIZER;CN="Great Hollow Nature Preserve & Ecological Research Center":MAILTO:info@greathollow.org
END:VEVENT
BEGIN:VEVENT
DTSTART;TZID=America/New_York:20231028T150000
DTEND;TZID=America/New_York:20231028T160000
DTSTAMP:20260424T032509
CREATED:20230915T150840Z
LAST-MODIFIED:20230915T152106Z
UID:10000368-1698505200-1698508800@greathollow.org
SUMMARY:Guest Seminar: The Wild World of Bats
DESCRIPTION:  \nJoin us as we celebrate Bat Week with a presentation by bat biologist\, Dr. Devaughn Fraser\, of the Connecticut Department of Energy & Environmental Protection. Bats are one of the most unique\, diverse and extraordinary groups of mammals on the planet.  Here in Connecticut and across the Northeast\, they are also one of the most imperiled. A devastating disease known as white-nose syndrome has been afflicting our bats for over 15 years and has led to 90% declines in several of our cave-dwelling species. Other species that are not affected by the disease face their own unique conservation challenges\, including climate change and wind-energy development. Come to Great Hollow on October 28th to hear Dr. Fraser talk about the diversity and natural history of bats in our region\, and the efforts being made by the state to monitor and protect these critical members of our ecological communities. \nDr. Fraser has been working with wildlife for over twenty years\, studying everything from lynx and mountain lions\, to prairie chickens\, prairie dogs\, and of course\, bats. She received her doctorate from UCLA in 2017 where she specialized in the use of genetic methods to investigate human impacts on wildlife. Since joining CT DEEP’s Wildlife Diversity Program\, Dr. Fraser has worked to expand the agency’s ability to monitor and protect bat populations across the state.
URL:https://greathollow.org/event/guest-seminar-the-wild-world-of-bats/
LOCATION:Great Hollow Nature Preserve\, 225 CT-37\, New Fairfield\, CT\, 06812\, United States
ATTACH;FMTTYPE=image/png:https://greathollow.org/wp-content/uploads/2023/09/Bats-of-NH.png
ORGANIZER;CN="Great Hollow Nature Preserve & Ecological Research Center":MAILTO:info@greathollow.org
END:VEVENT
BEGIN:VEVENT
DTSTART;TZID=America/New_York:20231028T183000
DTEND;TZID=America/New_York:20231028T200000
DTSTAMP:20260424T032509
CREATED:20231003T150915Z
LAST-MODIFIED:20231003T150915Z
UID:10000370-1698517800-1698523200@greathollow.org
SUMMARY:Hunter Moon Hike
DESCRIPTION:Take a moonlit hike with Great Hollow’s naturalist\, Ben Lee\, and learn about this month’s “Hunter Moon”. We’ll look and listen for owls and other nocturnal animals as we trek up to the Tucker’s Run waterfall. Please wear sturdy footwear and bring a flashlight or headlamp. The hike is weather-dependent. Appropriate for children ages 8 and up. Please\, no dogs. Free for members; a suggested donation of $5/person for non-members is greatly appreciated. Advanced registration is required. Please sign up by emailing Ben at blee@greathollow.org. We’ll meet at 6:30 pm in the visitors’ parking area by Great Hollow’s main entrance.
URL:https://greathollow.org/event/hunter-moon-hike-2/
LOCATION:Great Hollow Nature Preserve\, 225 CT-37\, New Fairfield\, CT\, 06812\, United States
ORGANIZER;CN="Great Hollow Nature Preserve & Ecological Research Center":MAILTO:info@greathollow.org
END:VEVENT
END:VCALENDAR