BEGIN:VCALENDAR
VERSION:2.0
PRODID:-//Great Hollow - ECPv6.15.15//NONSGML v1.0//EN
CALSCALE:GREGORIAN
METHOD:PUBLISH
X-ORIGINAL-URL:https://greathollow.org
X-WR-CALDESC:Events for Great Hollow
REFRESH-INTERVAL;VALUE=DURATION:PT1H
X-Robots-Tag:noindex
X-PUBLISHED-TTL:PT1H
BEGIN:VTIMEZONE
TZID:America/New_York
BEGIN:DAYLIGHT
TZOFFSETFROM:-0500
TZOFFSETTO:-0400
TZNAME:EDT
DTSTART:20220313T070000
END:DAYLIGHT
BEGIN:STANDARD
TZOFFSETFROM:-0400
TZOFFSETTO:-0500
TZNAME:EST
DTSTART:20221106T060000
END:STANDARD
BEGIN:DAYLIGHT
TZOFFSETFROM:-0500
TZOFFSETTO:-0400
TZNAME:EDT
DTSTART:20230312T070000
END:DAYLIGHT
BEGIN:STANDARD
TZOFFSETFROM:-0400
TZOFFSETTO:-0500
TZNAME:EST
DTSTART:20231105T060000
END:STANDARD
BEGIN:DAYLIGHT
TZOFFSETFROM:-0500
TZOFFSETTO:-0400
TZNAME:EDT
DTSTART:20240310T070000
END:DAYLIGHT
BEGIN:STANDARD
TZOFFSETFROM:-0400
TZOFFSETTO:-0500
TZNAME:EST
DTSTART:20241103T060000
END:STANDARD
END:VTIMEZONE
BEGIN:VEVENT
DTSTART;VALUE=DATE:20230415
DTEND;VALUE=DATE:20230416
DTSTAMP:20260424T040247
CREATED:20230303T002022Z
LAST-MODIFIED:20230306T221053Z
UID:10000211-1681516800-1681603199@greathollow.org
SUMMARY:Deadline to Enter 2023 GHPC Art Show
DESCRIPTION:Calling all painters and photographers who love nature and would like to participate in the sixth annual Great Hollow Photographers Club Juried Painting and Photography Show. Over the past five years\, we have raised more than $7\,000 for Great Hollow Nature Preserve and we hope you will join us for this sixth year of fundraising.  \nThe deadline for submissions is April 15\, 2023.  For a prospectus\, click here. \n The Opening Reception is on Friday\, May 19\, 2023\, from 6:30 to 8:30 pm. The show will be open for viewing and sales from 10 am to 4 pm on Saturday May 20 and Sunday May 21\, 2023. The show will also be online from May 19 to June 30\, 2023
URL:https://greathollow.org/event/deadline-to-enter-2023-ghpc-art-show/
LOCATION:Great Hollow Nature Preserve\, 225 CT-37\, New Fairfield\, CT\, 06812\, United States
ATTACH;FMTTYPE=image/jpeg:https://greathollow.org/wp-content/uploads/2023/03/Justin-P-Goodhart-GHPC-Art-Show-2022-3-May-20-2022-EDIT-copy.jpg
ORGANIZER;CN="Great Hollow Nature Preserve & Ecological Research Center":MAILTO:info@greathollow.org
END:VEVENT
END:VCALENDAR